BEGIN:VCALENDAR
VERSION:2.0
PRODID:-//LUPUS LA - ECPv6.15.20//NONSGML v1.0//EN
CALSCALE:GREGORIAN
METHOD:PUBLISH
X-ORIGINAL-URL:https://lupusla.org
X-WR-CALDESC:Events for LUPUS LA
REFRESH-INTERVAL;VALUE=DURATION:PT1H
X-Robots-Tag:noindex
X-PUBLISHED-TTL:PT1H
BEGIN:VTIMEZONE
TZID:America/Los_Angeles
BEGIN:DAYLIGHT
TZOFFSETFROM:-0800
TZOFFSETTO:-0700
TZNAME:PDT
DTSTART:20150308T100000
END:DAYLIGHT
BEGIN:STANDARD
TZOFFSETFROM:-0700
TZOFFSETTO:-0800
TZNAME:PST
DTSTART:20151101T090000
END:STANDARD
BEGIN:DAYLIGHT
TZOFFSETFROM:-0800
TZOFFSETTO:-0700
TZNAME:PDT
DTSTART:20160313T100000
END:DAYLIGHT
BEGIN:STANDARD
TZOFFSETFROM:-0700
TZOFFSETTO:-0800
TZNAME:PST
DTSTART:20161106T090000
END:STANDARD
BEGIN:DAYLIGHT
TZOFFSETFROM:-0800
TZOFFSETTO:-0700
TZNAME:PDT
DTSTART:20170312T100000
END:DAYLIGHT
BEGIN:STANDARD
TZOFFSETFROM:-0700
TZOFFSETTO:-0800
TZNAME:PST
DTSTART:20171105T090000
END:STANDARD
BEGIN:DAYLIGHT
TZOFFSETFROM:-0800
TZOFFSETTO:-0700
TZNAME:PDT
DTSTART:20180311T100000
END:DAYLIGHT
BEGIN:STANDARD
TZOFFSETFROM:-0700
TZOFFSETTO:-0800
TZNAME:PST
DTSTART:20181104T090000
END:STANDARD
END:VTIMEZONE
BEGIN:VEVENT
DTSTART;TZID=America/Los_Angeles:20171226T183000
DTEND;TZID=America/Los_Angeles:20171226T200000
DTSTAMP:20260420T155409
CREATED:20150428T234205Z
LAST-MODIFIED:20171109T002359Z
UID:2347-1514313000-1514318400@lupusla.org
SUMMARY:*Cancelled: Long Beach Adult Support Group
DESCRIPTION:*Please note the December group is cancelled due to the Holidays & will resume in January 2018. \nFourth Tuesday of every month from 6:30pm to 8:00pm\nMiller Children’s Hospital Long Beach\nChildren’s Hospital Pavilion Conference Room B\n2801 Atlantic Ave.\, Long Beach\, CA 90806
URL:https://lupusla.org/event/long-beach-adult-support-group-2017-12-26/
LOCATION:Miller Children’s Hospital\, Long Beach Children’s Hospital Pavilion\, Conference Room B\, 2801 Atlantic Ave.\, Long Beach\, CA\, 90806\, United States
CATEGORIES:Support Groups
END:VEVENT
BEGIN:VEVENT
DTSTART;TZID=America/Los_Angeles:20171216T103000
DTEND;TZID=America/Los_Angeles:20171216T160000
DTSTAMP:20260420T155409
CREATED:20170414T230638Z
LAST-MODIFIED:20170921T190812Z
UID:3950-1513420200-1513440000@lupusla.org
SUMMARY:Patient Conference
DESCRIPTION:PATIENT CONFERENCE\nSaturday\, December 16\, 2017\n10:30 a.m. – 4:00 p.m.\nRonald Reagan UCLA Medical Center | Tamkin Auditorium\n757 Westwood Plaza\, Los Angeles\, CA 90095
URL:https://lupusla.org/event/patient-conference-2/
LOCATION:UCLA Medical Center\, Tamkin Auditorium\, 757 Westwood Plaza\, Los Angeles\, CA\, 90095\, United States
CATEGORIES:Patient Conferences
END:VEVENT
BEGIN:VEVENT
DTSTART;TZID=America/Los_Angeles:20171209T113000
DTEND;TZID=America/Los_Angeles:20171209T130000
DTSTAMP:20260420T155409
CREATED:20150428T233531Z
LAST-MODIFIED:20171010T225745Z
UID:3808-1512819000-1512824400@lupusla.org
SUMMARY:Cancelled: Howse Foundation & Lupus LA Adult Support Group
DESCRIPTION:*Cancelled: this group will resume meeting in January 2018. \nSecond Saturday of every month from 11:30am to 1:00pm \nOlive Branch Diagnostic Imaging\nWomen’s Health Center\n10722 Arrow Route\, Suite 520\, Rancho Cucamonga\, CA 91730
URL:https://lupusla.org/event/howse-foundation-lupus-la-adult-support-group-2015-12-12-2016-02-13-2017-12-09/
LOCATION:Olive Branch Diagnostic Imaging\, Women’s Health Center\, 10722 Arrow Route\, Suite 520\, Rancho Cucamonga\, CA\, 91730\, United States
CATEGORIES:Support Groups
END:VEVENT
BEGIN:VEVENT
DTSTART;TZID=America/Los_Angeles:20171121T183000
DTEND;TZID=America/Los_Angeles:20171121T200000
DTSTAMP:20260420T155409
CREATED:20150428T232739Z
LAST-MODIFIED:20171019T221706Z
UID:2258-1511289000-1511294400@lupusla.org
SUMMARY:*Cancelled: Alhambra Adult Support Group
DESCRIPTION:*Please note the November group has been CANCELLED due to the Holidays and will resume meeting again in December. \nThird Tuesday of every month from 6:30pm to 8:00pm\nAlhambra Civic Center Library\, 2nd floor Conference Room\n101 S. First Street\, Alhambra\, CA 91801
URL:https://lupusla.org/event/alhambra-adult-support-group-2017-11-21/
LOCATION:Alhambra Civic Center Library\, 2nd floor Conference Room\, 101 S. First Street\, Alhambra\, CA\, 91801\, United States
CATEGORIES:Support Groups
END:VEVENT
BEGIN:VEVENT
DTSTART;TZID=America/Los_Angeles:20171117T110000
DTEND;TZID=America/Los_Angeles:20171117T140000
DTSTAMP:20260420T155409
CREATED:20170302T233206Z
LAST-MODIFIED:20170928T201631Z
UID:3853-1510916400-1510927200@lupusla.org
SUMMARY:2017 Hollywood Bag Ladies Luncheon
DESCRIPTION:HONORING\n\n  \n\nFashion Show Sponsor\n \n\nTo purchase sponsorship packages or tickets\, please click the button below.To place an ad in our tribute journal\, please download our ad form by clicking HERE \nor contact Lyndsey Senet\, Grant Associates at 323-904-4400 or Lyndsey@GrantEvents.com
URL:https://lupusla.org/event/2017-hollywood-bag-ladies-luncheon/
LOCATION:The Beverly Hilton\, 9876 Wilshire Blvd\, Beverly Hills\, CA\, 90210\, United States
CATEGORIES:Fundraising Events
END:VEVENT
BEGIN:VEVENT
DTSTART;TZID=America/Los_Angeles:20171114T183000
DTEND;TZID=America/Los_Angeles:20171114T200000
DTSTAMP:20260420T155409
CREATED:20150428T234205Z
LAST-MODIFIED:20171109T002205Z
UID:2267-1510684200-1510689600@lupusla.org
SUMMARY:Long Beach Adult Support Group
DESCRIPTION:*Please note the date change for this month. We will meet on 11/14 due to the Holidays. \nFourth Tuesday of every month from 6:30pm to 8:00pm\nMiller Children’s Hospital Long Beach\nChildren’s Hospital Pavilion Conference Room B\n2801 Atlantic Ave.\, Long Beach\, CA 90806
URL:https://lupusla.org/event/long-beach-adult-support-group-2017-11-28/
LOCATION:Miller Children’s Hospital\, Long Beach Children’s Hospital Pavilion\, Conference Room B\, 2801 Atlantic Ave.\, Long Beach\, CA\, 90806\, United States
CATEGORIES:Support Groups
END:VEVENT
BEGIN:VEVENT
DTSTART;TZID=America/Los_Angeles:20171111T113000
DTEND;TZID=America/Los_Angeles:20171111T130000
DTSTAMP:20260420T155409
CREATED:20150428T233531Z
LAST-MODIFIED:20171010T225638Z
UID:3807-1510399800-1510405200@lupusla.org
SUMMARY:*Cancelled: Howse Foundation & Lupus LA Adult Support Group
DESCRIPTION:*Cancelled\, the group will resume meeting in January 2018. \nSecond Saturday of every month from 11:30am to 1:00pm \nOlive Branch Diagnostic Imaging\nWomen’s Health Center\n10722 Arrow Route\, Suite 520\, Rancho Cucamonga\, CA 91730
URL:https://lupusla.org/event/howse-foundation-lupus-la-adult-support-group-2015-12-12-2016-02-13-2017-11-11/
LOCATION:Olive Branch Diagnostic Imaging\, Women’s Health Center\, 10722 Arrow Route\, Suite 520\, Rancho Cucamonga\, CA\, 91730\, United States
CATEGORIES:Support Groups
END:VEVENT
BEGIN:VEVENT
DTSTART;TZID=America/Los_Angeles:20170916T140000
DTEND;TZID=America/Los_Angeles:20170916T173000
DTSTAMP:20260420T155409
CREATED:20170724T205538Z
LAST-MODIFIED:20170828T192711Z
UID:4137-1505570400-1505583000@lupusla.org
SUMMARY:MBJAM 17
DESCRIPTION:Get into the game at MBJAM 17! Join Lupus LA Ambassador Michael B. Jordan and his all-star friends at this family-friendly courtside carnival to benefit the programs of Lupus LA. \nMBJAM 17 will feature activities and games for kids of all ages. \n \n For sponsorship information or to purchase tickets\, please click the button below:
URL:https://lupusla.org/event/mbjam-17/
LOCATION:Ritz-Carlton\, Marina del Rey\, 4375 Admiralty Way\, Marina del Rey\, CA\, 90292
CATEGORIES:Fundraising Events
GEO:33.9843113;-118.450735
X-APPLE-STRUCTURED-LOCATION;VALUE=URI;X-ADDRESS=Ritz-Carlton Marina del Rey 4375 Admiralty Way Marina del Rey CA 90292;X-APPLE-RADIUS=500;X-TITLE=4375 Admiralty Way:geo:-118.450735,33.9843113
END:VEVENT
BEGIN:VEVENT
DTSTART;TZID=America/Los_Angeles:20170904T190000
DTEND;TZID=America/Los_Angeles:20170904T210000
DTSTAMP:20260420T155409
CREATED:20150428T232922Z
LAST-MODIFIED:20170803T200409Z
UID:1937-1504551600-1504558800@lupusla.org
SUMMARY:*Cancelled: Adult Support Group in Irvine
DESCRIPTION:*Please note that September’s group has been cancelled for the Labor Day Holiday and will resume meeting in October. \nFirst Monday of every month from 7:00pm to 9:00pm\nUniversity United Methodist Church\n18422 Culver Drive\, Irvine\, CA 92612
URL:https://lupusla.org/event/adult-support-group-in-irvine-2017-09-04/
LOCATION:University United Methodist Church\, 18422 Culver Drive\, Irvine\, CA\, 92612\, United States
CATEGORIES:Support Groups
END:VEVENT
BEGIN:VEVENT
DTSTART;TZID=America/Los_Angeles:20170711T183000
DTEND;TZID=America/Los_Angeles:20170711T200000
DTSTAMP:20260420T155409
CREATED:20150428T073630Z
LAST-MODIFIED:20170426T222707Z
UID:1394-1499797800-1499803200@lupusla.org
SUMMARY:UCLA Adult Support Group
DESCRIPTION:UCLA Support Group \n*Please note the July group was changed to 7/11/17.\nFirst Tuesday of the month\nFrom 6:30 pm to 8:00 pm\nRheumatology – Rehabilitation Center Building\n3rd Floor – Library\n1000 Veteran Avenue\, Los Angeles\, CA 90024
URL:https://lupusla.org/event/ucla-adult-support-group-2017-07-04/
LOCATION:Rheumatology\, Rehabilitation Center Building\, 3rd Floor Library\, 1000 Veteran Avenue\, Los Angeles\, 90024\, United States
CATEGORIES:Support Groups
END:VEVENT
BEGIN:VEVENT
DTSTART;TZID=America/Los_Angeles:20170620T183000
DTEND;TZID=America/Los_Angeles:20170620T200000
DTSTAMP:20260420T155409
CREATED:20150428T232739Z
LAST-MODIFIED:20170616T200621Z
UID:1390-1497983400-1497988800@lupusla.org
SUMMARY:*Cancelled: Alhambra Adult Support Group
DESCRIPTION:*Cancelled\, will meet again in July Third Tuesday of every month from 6:30pm to 8:00pm\nAlhambra Civic Center Library\, 2nd floor Conference Room\n101 S. First Street\, Alhambra\, CA 91801
URL:https://lupusla.org/event/alhambra-adult-support-group-2017-06-20/
LOCATION:Alhambra Civic Center Library\, 2nd floor Conference Room\, 101 S. First Street\, Alhambra\, CA\, 91801\, United States
CATEGORIES:Support Groups
END:VEVENT
BEGIN:VEVENT
DTSTART;TZID=America/Los_Angeles:20170603T103000
DTEND;TZID=America/Los_Angeles:20170603T153000
DTSTAMP:20260420T155409
CREATED:20170414T230352Z
LAST-MODIFIED:20170414T230935Z
UID:3948-1496485800-1496503800@lupusla.org
SUMMARY:Orange County Patient Conference
DESCRIPTION:PATIENT CONFERENCE\nSaturday\, June 3\, 2017\n10:30 a.m. – 3:30 p.m.\nUC Irvine | Student Center Ballroom D\n4113 Pereira Drive\, Irvine\, CA 92697
URL:https://lupusla.org/event/orange-county-patient-conference/
LOCATION:University of California Irvine\, Student Center Ballroom D\, 4113 Pereira Drive\, Irvine\, CA\, 92697\, United States
CATEGORIES:Patient Conferences
END:VEVENT
BEGIN:VEVENT
DTSTART;TZID=America/Los_Angeles:20170516T183000
DTEND;TZID=America/Los_Angeles:20170516T200000
DTSTAMP:20260420T155409
CREATED:20150428T232739Z
LAST-MODIFIED:20170512T175308Z
UID:1336-1494959400-1494964800@lupusla.org
SUMMARY:Cancelled: Alhambra Adult Support Group
DESCRIPTION:*Please note that May’s 5/16 group has been cancelled & will resume again in June. \nThird Tuesday of every month from 6:30pm to 8:00pm\nAlhambra Civic Center Library\, 2nd floor Conference Room\n101 S. First Street\, Alhambra\, CA 91801
URL:https://lupusla.org/event/alhambra-adult-support-group-2017-05-16/
LOCATION:Alhambra Civic Center Library\, 2nd floor Conference Room\, 101 S. First Street\, Alhambra\, CA\, 91801\, United States
CATEGORIES:Support Groups
END:VEVENT
BEGIN:VEVENT
DTSTART;TZID=America/Los_Angeles:20170513T103000
DTEND;TZID=America/Los_Angeles:20170513T120000
DTSTAMP:20260420T155409
CREATED:20150428T233531Z
LAST-MODIFIED:20150606T004847Z
UID:1298-1494671400-1494676800@lupusla.org
SUMMARY:Howse Foundation & Lupus LA Adult Support Group
DESCRIPTION:Second Saturday of every month from 10:30am to 12:00pm\nOlive Branch Diagnostic Imaging\nWomen’s Health Center\n10722 Arrow Route\, Suite 520\, Rancho Cucamonga\, CA 91730
URL:https://lupusla.org/event/howse-foundation-lupus-la-adult-support-group-2017-05-13/
LOCATION:Olive Branch Diagnostic Imaging\, Women’s Health Center\, 10722 Arrow Route\, Suite 520\, Rancho Cucamonga\, CA\, 91730\, United States
CATEGORIES:Support Groups
END:VEVENT
BEGIN:VEVENT
DTSTART;TZID=America/Los_Angeles:20170422T193000
DTEND;TZID=America/Los_Angeles:20170422T223000
DTSTAMP:20260420T155409
CREATED:20160830T191238Z
LAST-MODIFIED:20170411T195919Z
UID:3231-1492889400-1492900200@lupusla.org
SUMMARY:2017 Orange Ball
DESCRIPTION:Join us for a gala evening underneath the Space Shuttle Endeavour! Guests will enjoy dinner\, awards\, live entertainment and more as we celebrate the achievements made in the world of lupus. \nIf you would like to purchase a tribute journal ad\, please CLICK HERE to download the form. \n \nHONORING\n \nEli Lilly and Company\nMedical Visionary Award \n\n \nMarta and Ron Bloom\nDaniel J. Wallace Founder’s Award \n\n \nAdam Selkowitz\nLoop Award \n \nDress: Cocktail attire\nParking: Parking at Exposition Park is $15 per car and must be paid in CASH. Complimentary valet parking will be provided for your convenience at the entrance of the California Science Center\, but all guests must pay the $15 fee to enter Exposition Park. \nThank you for your support!\n \n 
URL:https://lupusla.org/event/2017-orange-ball/
LOCATION:California Science Center\, 700 Exposition Park Drive \, Los Angeles\, CA\, 90037
CATEGORIES:Fundraising Events
GEO:34.0157877;-118.2862095
X-APPLE-STRUCTURED-LOCATION;VALUE=URI;X-ADDRESS=California Science Center 700 Exposition Park Drive  Los Angeles CA 90037;X-APPLE-RADIUS=500;X-TITLE=700 Exposition Park Drive:geo:-118.2862095,34.0157877
END:VEVENT
BEGIN:VEVENT
DTSTART;TZID=America/Los_Angeles:20170321T183000
DTEND;TZID=America/Los_Angeles:20170321T200000
DTSTAMP:20260420T155409
CREATED:20150428T232739Z
LAST-MODIFIED:20170315T224102Z
UID:724-1490121000-1490126400@lupusla.org
SUMMARY:*Canceled-Alhambra Adult Support Group
DESCRIPTION:*Please note the March 3/21/17 group has been canceled and will resume in April. \nThird Tuesday of every month from 6:30pm to 8:00pm\nAlhambra Civic Center Library\, 2nd floor Conference Room\n101 S. First Street\, Alhambra\, CA 91801
URL:https://lupusla.org/event/alhambra-adult-support-group-2017-03-21/
LOCATION:Alhambra Civic Center Library\, 2nd floor Conference Room\, 101 S. First Street\, Alhambra\, CA\, 91801\, United States
CATEGORIES:Support Groups
END:VEVENT
BEGIN:VEVENT
DTSTART;TZID=America/Los_Angeles:20170304T183000
DTEND;TZID=America/Los_Angeles:20170304T210000
DTSTAMP:20260420T155409
CREATED:20160830T191955Z
LAST-MODIFIED:20170303T035440Z
UID:3247-1488652200-1488661200@lupusla.org
SUMMARY:2017 Team Lupus LA
DESCRIPTION:Join Team Lupus LA in the 2017 Lupus Research Alliance Walk.\nTeam Lupus LA will be walking in the Lupus Research Alliance Walk WALK WITH US FOR A CURE in Los Angeles on March 4\, 2017 at 6:30 PM at the Rose Bowl. Joining the team is FREE! \nMore details coming soon\, but get registered today and start fundraising for a cure! 100% of all money raised will go to research! \n \n \nWe are not an official charity of the Los Angeles Marathon and 5K this year\, but if you still plan to participate in these runs and would like to raise money for Lupus LA\, you can set up a Lupus LA fundraising page for the Los Angeles Marathon by clicking HERE.  Please contact us at info@lupusla.org with any questions.
URL:https://lupusla.org/event/2017-team-lupus-la/
LOCATION:CA
END:VEVENT
BEGIN:VEVENT
DTSTART;TZID=America/Los_Angeles:20170206T190000
DTEND;TZID=America/Los_Angeles:20170206T210000
DTSTAMP:20260420T155409
CREATED:20150428T232922Z
LAST-MODIFIED:20170206T214228Z
UID:748-1486407600-1486414800@lupusla.org
SUMMARY:Cancelled-Adult Support Group in Irvine
DESCRIPTION:Please note 2/6/17 group has been cancelled. \nFirst Monday of every month from 7:00pm to 9:00pm\nUniversity United Methodist Church\n18422 Culver Drive\, Irvine\, CA 92612
URL:https://lupusla.org/event/adult-support-group-in-irvine-2017-02-06/
LOCATION:University United Methodist Church\, 18422 Culver Drive\, Irvine\, CA\, 92612\, United States
CATEGORIES:Support Groups
END:VEVENT
BEGIN:VEVENT
DTSTART;TZID=America/Los_Angeles:20170110T190000
DTEND;TZID=America/Los_Angeles:20170110T203000
DTSTAMP:20260420T155409
CREATED:20151104T001945Z
LAST-MODIFIED:20170110T195834Z
UID:2176-1484074800-1484080200@lupusla.org
SUMMARY:Cancelled: Crenshaw Adult Support Group
DESCRIPTION:*Please note January’s group has been cancelled. \nSecond Tuesday of the month\n7:00 PM – 8:30 PM\nWest Angeles Church\nMultipurpose Bldg. Room 7\n3045 Crenshaw Blvd.\, Los Angeles\, CA 90016
URL:https://lupusla.org/event/crenshawbaldwin-hills-support-group-2017-01-10/
LOCATION:Los Angeles\, CA\, 90028\, United States
CATEGORIES:Support Groups
END:VEVENT
BEGIN:VEVENT
DTSTART;TZID=America/Los_Angeles:20161227T183000
DTEND;TZID=America/Los_Angeles:20161227T200000
DTSTAMP:20260420T155409
CREATED:20150428T234205Z
LAST-MODIFIED:20161107T224640Z
UID:846-1482863400-1482868800@lupusla.org
SUMMARY:*Cancelled-Long Beach Adult Support Group
DESCRIPTION:*Please note December’s group has been cancelled & will resume in January. \nFourth Tuesday of every month from 6:30pm to 8:00pm\nMiller Children’s Hospital Long Beach\nChildren’s Hospital Pavilion Conference Room B\n2801 Atlantic Ave.\, Long Beach\, CA 90806
URL:https://lupusla.org/event/long-beach-adult-support-group-2016-12-27/
LOCATION:Miller Children’s Hospital\, Long Beach Children’s Hospital Pavilion\, Conference Room B\, 2801 Atlantic Ave.\, Long Beach\, CA\, 90806\, United States
CATEGORIES:Support Groups
END:VEVENT
BEGIN:VEVENT
DTSTART;TZID=America/Los_Angeles:20161220T183000
DTEND;TZID=America/Los_Angeles:20161220T200000
DTSTAMP:20260420T155409
CREATED:20150428T232739Z
LAST-MODIFIED:20161213T214918Z
UID:721-1482258600-1482264000@lupusla.org
SUMMARY:Cancelled-Alhambra Adult Support Group
DESCRIPTION:*Please note December’s group has been cancelled & will resume in January. \nThird Tuesday of every month from 6:30pm to 8:00pm\nAlhambra Civic Center Library\, 2nd floor Conference Room\n101 S. First Street\, Alhambra\, CA 91801
URL:https://lupusla.org/event/alhambra-adult-support-group-2016-12-20/
LOCATION:Alhambra Civic Center Library\, 2nd floor Conference Room\, 101 S. First Street\, Alhambra\, CA\, 91801\, United States
CATEGORIES:Support Groups
END:VEVENT
BEGIN:VEVENT
DTSTART;TZID=America/Los_Angeles:20161210T103000
DTEND;TZID=America/Los_Angeles:20161210T120000
DTSTAMP:20260420T155409
CREATED:20150428T233531Z
LAST-MODIFIED:20161007T225043Z
UID:796-1481365800-1481371200@lupusla.org
SUMMARY:*Cancelled. Howse Foundation & Lupus LA Adult Support Group
DESCRIPTION:*Cancelled. Please note December’s group has been cancelled. The group will resume in January 2017. \nSecond Saturday of every month from 10:30am to 12:00pm \nOlive Branch Diagnostic Imaging\nWomen’s Health Center\n10722 Arrow Route\, Suite 520\, Rancho Cucamonga\, CA 91730
URL:https://lupusla.org/event/howse-foundation-lupus-la-adult-support-group-2015-12-12-2016-12-10/
LOCATION:Olive Branch Diagnostic Imaging\, Women’s Health Center\, 10722 Arrow Route\, Suite 520\, Rancho Cucamonga\, CA\, 91730\, United States
CATEGORIES:Support Groups
END:VEVENT
BEGIN:VEVENT
DTSTART;TZID=America/Los_Angeles:20161129T183000
DTEND;TZID=America/Los_Angeles:20161129T200000
DTSTAMP:20260420T155409
CREATED:20150428T234205Z
LAST-MODIFIED:20161107T224514Z
UID:845-1480444200-1480449600@lupusla.org
SUMMARY:Long Beach Adult Support Group
DESCRIPTION:*Please note this month’s group will meet on 11/29. \nFourth Tuesday of every month from 6:30pm to 8:00pm\nMiller Children’s Hospital Long Beach\nChildren’s Hospital Pavilion Conference Room B\n2801 Atlantic Ave.\, Long Beach\, CA 90806
URL:https://lupusla.org/event/long-beach-adult-support-group-2016-11-22/
LOCATION:Miller Children’s Hospital\, Long Beach Children’s Hospital Pavilion\, Conference Room B\, 2801 Atlantic Ave.\, Long Beach\, CA\, 90806\, United States
CATEGORIES:Support Groups
END:VEVENT
BEGIN:VEVENT
DTSTART;TZID=America/Los_Angeles:20161129T183000
DTEND;TZID=America/Los_Angeles:20161129T200000
DTSTAMP:20260420T155409
CREATED:20150428T232507Z
LAST-MODIFIED:20161013T223050Z
UID:694-1480444200-1480449600@lupusla.org
SUMMARY:Sherman Oaks Adult Support Group
DESCRIPTION:*Please note this month’s group has been changed to 11/29 \nSherman Oaks Adult Support Group\nSecond Tuesday of every month from 6:30pm to 8:00pm\nCircle of Care Conference Room\, Sherman Oaks Hospital\n4929 Van Nuys Boulevard\, Sherman Oaks\, CA 91403
URL:https://lupusla.org/event/sherman-oaks-adult-support-group-2016-11-08/
LOCATION:Circle of Care Conference Room\, Sherman Oaks Hospital\, 4929 Van Nuys Boulevard\, Sherman Oaks\, CA\, 91403\, United States
CATEGORIES:Support Groups
END:VEVENT
BEGIN:VEVENT
DTSTART;TZID=America/Los_Angeles:20161118T110000
DTEND;TZID=America/Los_Angeles:20161118T140000
DTSTAMP:20260420T155409
CREATED:20160830T190651Z
LAST-MODIFIED:20161201T013713Z
UID:3229-1479466800-1479477600@lupusla.org
SUMMARY:2016 Hollywood Bag Ladies Luncheon
DESCRIPTION:Thank you for your support!\n2016 Hollywood Bag Ladies Luncheon Digital Journal\n \nHONORING\nNicole Fogel + Sheila Milstein\nWomen of Achievement \nAfter Nicole was diagnosed with lupus\, she and her mother Sheila decided to do all they could to not only find a cure for Nicole\, but for the millions of lupus patients and their families. They have both participated on event committees\, including Team Lupus LA. Team Fogel has raised $60\,000 over the past four years. \n\nJoan Robbins\nAdam Selkowitz Outstanding Volunteer Award \nJoan has been a dedicated member of the Hollywood Bag Ladies Luncheon Committee for over four years. She is instrumental in putting together the New York Fashion Week package that is auctioned off each year\, which has raised over $50\,000 for Lupus LA. \n\nTerri Seymour\nWoman of Achievement \nTerri has been a Lupus LA Ambassador for the last three years\, and has supported Lupus LA for many more. She is dedicated to raising awareness through sharing her own story and inspiring hope in lupus patients and their families. \n\nFASHION BY\n \n\nTHANKS TO OUR SPONSORS
URL:https://lupusla.org/event/2016-hollywood-bag-ladies-luncheon/
LOCATION:The Beverly Hilton\, 9876 Wilshire Blvd\, Beverly Hills\, CA\, 90210\, United States
CATEGORIES:Fundraising Events
END:VEVENT
BEGIN:VEVENT
DTSTART;TZID=America/Los_Angeles:20161112T103000
DTEND;TZID=America/Los_Angeles:20161112T120000
DTSTAMP:20260420T155409
CREATED:20150428T233531Z
LAST-MODIFIED:20161007T225002Z
UID:795-1478946600-1478952000@lupusla.org
SUMMARY:*Cancelled. Howse Foundation & Lupus LA Adult Support Group
DESCRIPTION:*Cancelled. Please note November’s group has been cancelled. The group will resume in January 2017. \nSecond Saturday of every month from 10:30am to 12:00pm \nOlive Branch Diagnostic Imaging\nWomen’s Health Center\n10722 Arrow Route\, Suite 520\, Rancho Cucamonga\, CA 91730
URL:https://lupusla.org/event/howse-foundation-lupus-la-adult-support-group-2015-12-12-2016-11-12/
LOCATION:Olive Branch Diagnostic Imaging\, Women’s Health Center\, 10722 Arrow Route\, Suite 520\, Rancho Cucamonga\, CA\, 91730\, United States
CATEGORIES:Support Groups
END:VEVENT
BEGIN:VEVENT
DTSTART;TZID=America/Los_Angeles:20161108T190000
DTEND;TZID=America/Los_Angeles:20161108T203000
DTSTAMP:20260420T155409
CREATED:20151104T001945Z
LAST-MODIFIED:20161109T002605Z
UID:2174-1478631600-1478637000@lupusla.org
SUMMARY:*Cancellation: Crenshaw Adult Support Group
DESCRIPTION:*Please note that tonight’s group has been cancelled. \nSecond Tuesday of the month\n7:00 PM – 8:30 PM\nWest Angeles Church\nMultipurpose Bldg. Room 7\n3045 Crenshaw Blvd.\, Los Angeles\, CA 90016
URL:https://lupusla.org/event/crenshawbaldwin-hills-support-group-2016-11-08/
LOCATION:Los Angeles\, CA\, 90028\, United States
CATEGORIES:Support Groups
END:VEVENT
BEGIN:VEVENT
DTSTART;VALUE=DATE:20160921
DTEND;VALUE=DATE:20160922
DTSTAMP:20260420T155409
CREATED:20160728T001543Z
LAST-MODIFIED:20160928T215604Z
UID:3122-1474416000-1474502399@lupusla.org
SUMMARY:Get Lucky for Lupus LA Celebrity Poker Tournament & Party
DESCRIPTION:THANKS FOR YOUR SUPPORT! \nSeptember 21\, 2016\n6:30 PM – Doors Open\n7:30 PM – Award Presentation\n8:00 PM (sharp!) – Poker Tournament Begins \nAvalon Hollywood\n1735 Vine St\, Los Angeles\, CA 90028 \nHonoring: The Band from TV\n \nJoin us for our annual celebrity poker tournament and party! There is something for everyone at this fun event. Go “all-in” for lupus\, purchase a one-of-a-kind item in our silent auction\, and mix and mingle with some of your favorite celebrities! This year in honor of Band From TV we are celebrating the world of television. The silent auction will have unique TV experiences and we will be inviting some of your favorite TV stars to join in supporting this great cause. \n \n  \nPOKER TOURNAMENT PRIZES\nGRAND PRIZE\nHead to Las Vegas for a private lesson with poker pros Tiffany Michelle and Maria Ho and they’ll give you an exclusive backstage tour of the World Series of Poker! This prize includes a $500 hotel credit\, show tickets\, and more. \n \nFINAL TABLE PRIZE\nAll players who make it to the final table will receive a pair of brand new True Religion headphones! \n \nATTIRE: Dress for a night out. Nice jeans welcome. \nThanks to our sponsors!\n  \n  \n\n \n 
URL:https://lupusla.org/event/get-lucky-for-lupus-la-celebrity-poker-tournament-party/
LOCATION:Avalon Hollywood\, 1735 Vine St\, Los Angeles\, CA\, 90028\, United States
CATEGORIES:Fundraising Events
END:VEVENT
BEGIN:VEVENT
DTSTART;TZID=America/Los_Angeles:20160905T190000
DTEND;TZID=America/Los_Angeles:20160905T210000
DTSTAMP:20260420T155409
CREATED:20150428T232922Z
LAST-MODIFIED:20160822T205601Z
UID:743-1473102000-1473109200@lupusla.org
SUMMARY:Cancelled-Adult Support Group in Irvine
DESCRIPTION:*Please note the 9/5 group is cancelled for Labor Day and will meet again on 10/3. \nFirst Monday of every month from 7:00pm to 9:00pm\nUniversity United Methodist Church\n18422 Culver Drive\, Irvine\, CA 92612
URL:https://lupusla.org/event/adult-support-group-in-irvine-2016-09-05/
LOCATION:University United Methodist Church\, 18422 Culver Drive\, Irvine\, CA\, 92612\, United States
CATEGORIES:Support Groups
END:VEVENT
BEGIN:VEVENT
DTSTART;TZID=America/Los_Angeles:20160801T183000
DTEND;TZID=America/Los_Angeles:20160801T200000
DTSTAMP:20260420T155409
CREATED:20150428T073630Z
LAST-MODIFIED:20160523T230313Z
UID:638-1470076200-1470081600@lupusla.org
SUMMARY:UCLA Adult Support Group
DESCRIPTION:UCLA Support Group \n*Please note date change just for August.\n8/1/16\nFrom 6:30 pm to 8:00 pm\nRheumatology – Rehabilitation Center Building\n3rd Floor – Library\n1000 Veteran Avenue\, Los Angeles\, CA 90024
URL:https://lupusla.org/event/ucla-adult-support-group-2016-08-02/
LOCATION:Rheumatology\, Rehabilitation Center Building\, 3rd Floor Library\, 1000 Veteran Avenue\, Los Angeles\, 90024\, United States
CATEGORIES:Support Groups
END:VEVENT
END:VCALENDAR